Workbook
Name REPORT_NAME2: [1]Settings!#REF!
Name REPORT_NAME2: [1]Settings!#REF!
Name REPORT_NAME2: [1]Settings!#REF!
Name REPORT_NAME2: [1]Settings!#REF!
Name REPORT_NAME2: [1]Settings!#REF!
Name REPORT_NAME2: [1]Settings!#REF!
Name REPORT_NAME2: [1]Settings!#REF!
Name REPORT_NAME2: [1]Settings!#REF!
Name REPORT_NAME2: [1]Settings!#REF!
Name REPORT_NAME2: [1]Settings!#REF!
Name REPORT_NAME2: [1]Settings!#REF!
Name REPORT_NAME2: [1]Settings!#REF!
Name REPORT_NAME2: [1]Settings!#REF!
Name REPORT_NAME2: [1]Settings!#REF!
Name REPORT_NAME2: [1]Settings!#REF!
Name REPORT_NAME2: [1]Settings!#REF!
Name REPORT_NAME2: [1]Settings!#REF!
Name REPORT_NAME2: [1]Settings!#REF!
Name REPORT_NAME2: [1]Settings!#REF!
Name REPORT_NAME3: [1]Settings!#REF!

Sheet Statewide Summary
B2: =CONCATENATE(C14,E14," ",H14) -> JANUARY - FEBRUARY 2025
B3: =H14 -> 2025
C14: JANUARY - | E14: FEBRUARY | H14: 2025
B15: SUMMARY REPORT
C17: Permits | G17: Est. Average Market Value | K17: Average Derived Size (sf)
B18: (Click on links below to view reports) | C18: ='Statewide Summary - Proposed'!C18 -> July | G18: =C18 -> July | K18: =G18 -> July
B19: HBA Name | C19: ='Statewide Summary - Proposed'!C19 -> 2025 | D19: =C19-1 -> 2024 | E19: Chg | G19: =C19 -> 2025 | H19: =D19 -> 2024 | I19: Chg | K19: =G19 -> 2025 | L19: =H19 -> 2024 | M19: Chg
B20: Ann Arbor Area HBA | C20: =SUMIFS(#REF!,#REF!,'Statewide Summary'!$B20,#REF!,'Statewide Summary'!$C$19,#REF!,'Statewide Summary'!$C$18) -> #REF! | D20: =SUMIFS(#REF!,#REF!,'Statewide Summary'!$B20,#REF!,'Statewide Summary'!$D$19,#REF!,'Statewide Summary'!$C$18) -> #REF! | E20: =IF(D20=0,"INF",(C20-D20)/D20) -> #REF! | G20: =IF(C20=0,0,SUMIFS(#REF!,#REF!,G$19,#REF!,$G$18,#REF!,$B20)/SUMIFS(#REF!,#REF!,G$19,#REF!,$G$18,#REF!,$B20)) -> #REF! | H20: =IF(D20=0,0,SUMIFS(#REF!,#REF!,H$19,#REF!,$G$18,#REF!,$B20)/SUMIFS(#REF!,#REF!,H$19,#REF!,$G$18,#REF!,$B20)) -> #REF! | I20: =IF(H20=0,"INF",(G20-H20)/H20) -> #REF! | K20: =IF(C20=0,0,SUMIFS(#REF!,#REF!,G$19,#REF!,$G$18,#REF!,$B20)/SUMIFS(#REF!,#REF!,G$19,#REF!,$G$18,#REF!,$B20)) -> #REF! | L20: =IF(D20=0,0,SUMIFS(#REF!,#REF!,H$19,#REF!,$G$18,#REF!,$B20)/SUMIFS(#REF!,#REF!,H$19,#REF!,$G$18,#REF!,$B20)) -> #REF! | M20: =IF(L20=0,"INF",(K20-L20)/L20) -> #REF!
B21: Bay County HBA | C21: =SUMIFS(#REF!,#REF!,'Statewide Summary'!$B21,#REF!,'Statewide Summary'!$C$19,#REF!,'Statewide Summary'!$C$18) -> #REF! | D21: =SUMIFS(#REF!,#REF!,'Statewide Summary'!$B21,#REF!,'Statewide Summary'!$D$19,#REF!,'Statewide Summary'!$C$18) -> #REF! | E21: =IF(D21=0,"INF",(C21-D21)/D21) -> #REF! | G21: =IF(C21=0,0,SUMIFS(#REF!,#REF!,G$19,#REF!,$G$18,#REF!,$B21)/SUMIFS(#REF!,#REF!,G$19,#REF!,$G$18,#REF!,$B21)) -> #REF! | H21: =IF(D21=0,0,SUMIFS(#REF!,#REF!,H$19,#REF!,$G$18,#REF!,$B21)/SUMIFS(#REF!,#REF!,H$19,#REF!,$G$18,#REF!,$B21)) -> #REF! | I21: =IF(H21=0,"INF",(G21-H21)/H21) -> #REF! | K21: =IF(C21=0,0,SUMIFS(#REF!,#REF!,G$19,#REF!,$G$18,#REF!,$B21)/SUMIFS(#REF!,#REF!,G$19,#REF!,$G$18,#REF!,$B21)) -> #REF! | L21: =IF(D21=0,0,SUMIFS(#REF!,#REF!,H$19,#REF!,$G$18,#REF!,$B21)/SUMIFS(#REF!,#REF!,H$19,#REF!,$G$18,#REF!,$B21)) -> #REF! | M21: =IF(L21=0,"INF",(K21-L21)/L21) -> #REF!
B22: HBA of Central Michigan | C22: =SUMIFS(#REF!,#REF!,'Statewide Summary'!$B22,#REF!,'Statewide Summary'!$C$19,#REF!,'Statewide Summary'!$C$18) -> #REF! | D22: =SUMIFS(#REF!,#REF!,'Statewide Summary'!$B22,#REF!,'Statewide Summary'!$D$19,#REF!,'Statewide Summary'!$C$18) -> #REF! | E22: =IF(D22=0,"INF",(C22-D22)/D22) -> #REF! | G22: =IF(C22=0,0,SUMIFS(#REF!,#REF!,G$19,#REF!,$G$18,#REF!,$B22)/SUMIFS(#REF!,#REF!,G$19,#REF!,$G$18,#REF!,$B22)) -> #REF! | H22: =IF(D22=0,0,SUMIFS(#REF!,#REF!,H$19,#REF!,$G$18,#REF!,$B22)/SUMIFS(#REF!,#REF!,H$19,#REF!,$G$18,#REF!,$B22)) -> #REF! | I22: =IF(H22=0,"INF",(G22-H22)/H22) -> #REF! | K22: =IF(C22=0,0,SUMIFS(#REF!,#REF!,G$19,#REF!,$G$18,#REF!,$B22)/SUMIFS(#REF!,#REF!,G$19,#REF!,$G$18,#REF!,$B22)) -> #REF! | L22: =IF(D22=0,0,SUMIFS(#REF!,#REF!,H$19,#REF!,$G$18,#REF!,$B22)/SUMIFS(#REF!,#REF!,H$19,#REF!,$G$18,#REF!,$B22)) -> #REF! | M22: =IF(L22=0,"INF",(K22-L22)/L22) -> #REF!
B23: HBA of Mid-Michigan | C23: =SUMIFS(#REF!,#REF!,'Statewide Summary'!$B23,#REF!,'Statewide Summary'!$C$19,#REF!,'Statewide Summary'!$C$18) -> #REF! | D23: =SUMIFS(#REF!,#REF!,'Statewide Summary'!$B23,#REF!,'Statewide Summary'!$D$19,#REF!,'Statewide Summary'!$C$18) -> #REF! | E23: =IF(D23=0,"INF",(C23-D23)/D23) -> #REF! | G23: =IF(C23=0,0,SUMIFS(#REF!,#REF!,G$19,#REF!,$G$18,#REF!,$B23)/SUMIFS(#REF!,#REF!,G$19,#REF!,$G$18,#REF!,$B23)) -> #REF! | H23: =IF(D23=0,0,SUMIFS(#REF!,#REF!,H$19,#REF!,$G$18,#REF!,$B23)/SUMIFS(#REF!,#REF!,H$19,#REF!,$G$18,#REF!,$B23)) -> #REF! | I23: =IF(H23=0,"INF",(G23-H23)/H23) -> #REF! | K23: =IF(C23=0,0,SUMIFS(#REF!,#REF!,G$19,#REF!,$G$18,#REF!,$B23)/SUMIFS(#REF!,#REF!,G$19,#REF!,$G$18,#REF!,$B23)) -> #REF! | L23: =IF(D23=0,0,SUMIFS(#REF!,#REF!,H$19,#REF!,$G$18,#REF!,$B23)/SUMIFS(#REF!,#REF!,H$19,#REF!,$G$18,#REF!,$B23)) -> #REF! | M23: =IF(L23=0,"INF",(K23-L23)/L23) -> #REF!
B24: HBA of Greater Grand Rapids | C24: =SUMIFS(#REF!,#REF!,'Statewide Summary'!$B24,#REF!,'Statewide Summary'!$C$19,#REF!,'Statewide Summary'!$C$18) -> #REF! | D24: =SUMIFS(#REF!,#REF!,'Statewide Summary'!$B24,#REF!,'Statewide Summary'!$D$19,#REF!,'Statewide Summary'!$C$18) -> #REF! | E24: =IF(D24=0,"INF",(C24-D24)/D24) -> #REF! | G24: =IF(C24=0,0,SUMIFS(#REF!,#REF!,G$19,#REF!,$G$18,#REF!,$B24)/SUMIFS(#REF!,#REF!,G$19,#REF!,$G$18,#REF!,$B24)) -> #REF! | H24: =IF(D24=0,0,SUMIFS(#REF!,#REF!,H$19,#REF!,$G$18,#REF!,$B24)/SUMIFS(#REF!,#REF!,H$19,#REF!,$G$18,#REF!,$B24)) -> #REF! | I24: =IF(H24=0,"INF",(G24-H24)/H24) -> #REF! | K24: =IF(C24=0,0,SUMIFS(#REF!,#REF!,G$19,#REF!,$G$18,#REF!,$B24)/SUMIFS(#REF!,#REF!,G$19,#REF!,$G$18,#REF!,$B24)) -> #REF! | L24: =IF(D24=0,0,SUMIFS(#REF!,#REF!,H$19,#REF!,$G$18,#REF!,$B24)/SUMIFS(#REF!,#REF!,H$19,#REF!,$G$18,#REF!,$B24)) -> #REF! | M24: =IF(L24=0,"INF",(K24-L24)/L24) -> #REF!
B25: HBA of Northwest Michigan | C25: =SUMIFS(#REF!,#REF!,'Statewide Summary'!$B25,#REF!,'Statewide Summary'!$C$19,#REF!,'Statewide Summary'!$C$18) -> #REF! | D25: =SUMIFS(#REF!,#REF!,'Statewide Summary'!$B25,#REF!,'Statewide Summary'!$D$19,#REF!,'Statewide Summary'!$C$18) -> #REF! | E25: =IF(D25=0,"INF",(C25-D25)/D25) -> #REF! | G25: =IF(C25=0,0,SUMIFS(#REF!,#REF!,G$19,#REF!,$G$18,#REF!,$B25)/SUMIFS(#REF!,#REF!,G$19,#REF!,$G$18,#REF!,$B25)) -> #REF! | H25: =IF(D25=0,0,SUMIFS(#REF!,#REF!,H$19,#REF!,$G$18,#REF!,$B25)/SUMIFS(#REF!,#REF!,H$19,#REF!,$G$18,#REF!,$B25)) -> #REF! | I25: =IF(H25=0,"INF",(G25-H25)/H25) -> #REF! | K25: =IF(C25=0,0,SUMIFS(#REF!,#REF!,G$19,#REF!,$G$18,#REF!,$B25)/SUMIFS(#REF!,#REF!,G$19,#REF!,$G$18,#REF!,$B25)) -> #REF! | L25: =IF(D25=0,0,SUMIFS(#REF!,#REF!,H$19,#REF!,$G$18,#REF!,$B25)/SUMIFS(#REF!,#REF!,H$19,#REF!,$G$18,#REF!,$B25)) -> #REF! | M25: =IF(L25=0,"INF",(K25-L25)/L25) -> #REF!
B26: Lakeshore HBA | C26: =SUMIFS(#REF!,#REF!,'Statewide Summary'!$B26,#REF!,'Statewide Summary'!$C$19,#REF!,'Statewide Summary'!$C$18) -> #REF! | D26: =SUMIFS(#REF!,#REF!,'Statewide Summary'!$B26,#REF!,'Statewide Summary'!$D$19,#REF!,'Statewide Summary'!$C$18) -> #REF! | E26: =IF(D26=0,"INF",(C26-D26)/D26) -> #REF! | G26: =IF(C26=0,0,SUMIFS(#REF!,#REF!,G$19,#REF!,$G$18,#REF!,$B26)/SUMIFS(#REF!,#REF!,G$19,#REF!,$G$18,#REF!,$B26)) -> #REF! | H26: =IF(D26=0,0,SUMIFS(#REF!,#REF!,H$19,#REF!,$G$18,#REF!,$B26)/SUMIFS(#REF!,#REF!,H$19,#REF!,$G$18,#REF!,$B26)) -> #REF! | I26: =IF(H26=0,"INF",(G26-H26)/H26) -> #REF! | K26: =IF(C26=0,0,SUMIFS(#REF!,#REF!,G$19,#REF!,$G$18,#REF!,$B26)/SUMIFS(#REF!,#REF!,G$19,#REF!,$G$18,#REF!,$B26)) -> #REF! | L26: =IF(D26=0,0,SUMIFS(#REF!,#REF!,H$19,#REF!,$G$18,#REF!,$B26)/SUMIFS(#REF!,#REF!,H$19,#REF!,$G$18,#REF!,$B26)) -> #REF! | M26: =IF(L26=0,"INF",(K26-L26)/L26) -> #REF!
B27: HBA of Jackson | C27: =SUMIFS(#REF!,#REF!,'Statewide Summary'!$B27,#REF!,'Statewide Summary'!$C$19,#REF!,'Statewide Summary'!$C$18) -> #REF! | D27: =SUMIFS(#REF!,#REF!,'Statewide Summary'!$B27,#REF!,'Statewide Summary'!$D$19,#REF!,'Statewide Summary'!$C$18) -> #REF! | E27: =IF(D27=0,"INF",(C27-D27)/D27) -> #REF! | G27: =IF(C27=0,0,SUMIFS(#REF!,#REF!,G$19,#REF!,$G$18,#REF!,$B27)/SUMIFS(#REF!,#REF!,G$19,#REF!,$G$18,#REF!,$B27)) -> #REF! | H27: =IF(D27=0,0,SUMIFS(#REF!,#REF!,H$19,#REF!,$G$18,#REF!,$B27)/SUMIFS(#REF!,#REF!,H$19,#REF!,$G$18,#REF!,$B27)) -> #REF! | I27: =IF(H27=0,"INF",(G27-H27)/H27) -> #REF! | K27: =IF(C27=0,0,SUMIFS(#REF!,#REF!,G$19,#REF!,$G$18,#REF!,$B27)/SUMIFS(#REF!,#REF!,G$19,#REF!,$G$18,#REF!,$B27)) -> #REF! | L27: =IF(D27=0,0,SUMIFS(#REF!,#REF!,H$19,#REF!,$G$18,#REF!,$B27)/SUMIFS(#REF!,#REF!,H$19,#REF!,$G$18,#REF!,$B27)) -> #REF! | M27: =IF(L27=0,"INF",(K27-L27)/L27) -> #REF!
B28: HBA of Western Michigan | C28: =SUMIFS(#REF!,#REF!,'Statewide Summary'!$B28,#REF!,'Statewide Summary'!$C$19,#REF!,'Statewide Summary'!$C$18) -> #REF! | D28: =SUMIFS(#REF!,#REF!,'Statewide Summary'!$B28,#REF!,'Statewide Summary'!$D$19,#REF!,'Statewide Summary'!$C$18) -> #REF! | E28: =IF(D28=0,"INF",(C28-D28)/D28) -> #REF! | G28: =IF(C28=0,0,SUMIFS(#REF!,#REF!,G$19,#REF!,$G$18,#REF!,$B28)/SUMIFS(#REF!,#REF!,G$19,#REF!,$G$18,#REF!,$B28)) -> #REF! | H28: =IF(D28=0,0,SUMIFS(#REF!,#REF!,H$19,#REF!,$G$18,#REF!,$B28)/SUMIFS(#REF!,#REF!,H$19,#REF!,$G$18,#REF!,$B28)) -> #REF! | I28: =IF(H28=0,"INF",(G28-H28)/H28) -> #REF! | K28: =IF(C28=0,0,SUMIFS(#REF!,#REF!,G$19,#REF!,$G$18,#REF!,$B28)/SUMIFS(#REF!,#REF!,G$19,#REF!,$G$18,#REF!,$B28)) -> #REF! | L28: =IF(D28=0,0,SUMIFS(#REF!,#REF!,H$19,#REF!,$G$18,#REF!,$B28)/SUMIFS(#REF!,#REF!,H$19,#REF!,$G$18,#REF!,$B28)) -> #REF! | M28: =IF(L28=0,"INF",(K28-L28)/L28) -> #REF!
B29: HBA of Greater Lansing | C29: =SUMIFS(#REF!,#REF!,'Statewide Summary'!$B29,#REF!,'Statewide Summary'!$C$19,#REF!,'Statewide Summary'!$C$18) -> #REF! | D29: =SUMIFS(#REF!,#REF!,'Statewide Summary'!$B29,#REF!,'Statewide Summary'!$D$19,#REF!,'Statewide Summary'!$C$18) -> #REF! | E29: =IF(D29=0,"INF",(C29-D29)/D29) -> #REF! | G29: =IF(C29=0,0,SUMIFS(#REF!,#REF!,G$19,#REF!,$G$18,#REF!,$B29)/SUMIFS(#REF!,#REF!,G$19,#REF!,$G$18,#REF!,$B29)) -> #REF! | H29: =IF(D29=0,0,SUMIFS(#REF!,#REF!,H$19,#REF!,$G$18,#REF!,$B29)/SUMIFS(#REF!,#REF!,H$19,#REF!,$G$18,#REF!,$B29)) -> #REF! | I29: =IF(H29=0,"INF",(G29-H29)/H29) -> #REF! | K29: =IF(C29=0,0,SUMIFS(#REF!,#REF!,G$19,#REF!,$G$18,#REF!,$B29)/SUMIFS(#REF!,#REF!,G$19,#REF!,$G$18,#REF!,$B29)) -> #REF! | L29: =IF(D29=0,0,SUMIFS(#REF!,#REF!,H$19,#REF!,$G$18,#REF!,$B29)/SUMIFS(#REF!,#REF!,H$19,#REF!,$G$18,#REF!,$B29)) -> #REF! | M29: =IF(L29=0,"INF",(K29-L29)/L29) -> #REF!
B30: HBA of Northern Michigan | C30: =SUMIFS(#REF!,#REF!,'Statewide Summary'!$B30,#REF!,'Statewide Summary'!$C$19,#REF!,'Statewide Summary'!$C$18) -> #REF! | D30: =SUMIFS(#REF!,#REF!,'Statewide Summary'!$B30,#REF!,'Statewide Summary'!$D$19,#REF!,'Statewide Summary'!$C$18) -> #REF! | E30: =IF(D30=0,"INF",(C30-D30)/D30) -> #REF! | G30: =IF(C30=0,0,SUMIFS(#REF!,#REF!,G$19,#REF!,$G$18,#REF!,$B30)/SUMIFS(#REF!,#REF!,G$19,#REF!,$G$18,#REF!,$B30)) -> #REF! | H30: =IF(D30=0,0,SUMIFS(#REF!,#REF!,H$19,#REF!,$G$18,#REF!,$B30)/SUMIFS(#REF!,#REF!,H$19,#REF!,$G$18,#REF!,$B30)) -> #REF! | I30: =IF(H30=0,"INF",(G30-H30)/H30) -> #REF! | K30: =IF(C30=0,0,SUMIFS(#REF!,#REF!,G$19,#REF!,$G$18,#REF!,$B30)/SUMIFS(#REF!,#REF!,G$19,#REF!,$G$18,#REF!,$B30)) -> #REF! | L30: =IF(D30=0,0,SUMIFS(#REF!,#REF!,H$19,#REF!,$G$18,#REF!,$B30)/SUMIFS(#REF!,#REF!,H$19,#REF!,$G$18,#REF!,$B30)) -> #REF! | M30: =IF(L30=0,"INF",(K30-L30)/L30) -> #REF!
B31: HBA of Livingston | C31: =SUMIFS(#REF!,#REF!,'Statewide Summary'!$B31,#REF!,'Statewide Summary'!$C$19,#REF!,'Statewide Summary'!$C$18) -> #REF! | D31: =SUMIFS(#REF!,#REF!,'Statewide Summary'!$B31,#REF!,'Statewide Summary'!$D$19,#REF!,'Statewide Summary'!$C$18) -> #REF! | E31: =IF(D31=0,"INF",(C31-D31)/D31) -> #REF! | G31: =IF(C31=0,0,SUMIFS(#REF!,#REF!,G$19,#REF!,$G$18,#REF!,$B31)/SUMIFS(#REF!,#REF!,G$19,#REF!,$G$18,#REF!,$B31)) -> #REF! | H31: =IF(D31=0,0,SUMIFS(#REF!,#REF!,H$19,#REF!,$G$18,#REF!,$B31)/SUMIFS(#REF!,#REF!,H$19,#REF!,$G$18,#REF!,$B31)) -> #REF! | I31: =IF(H31=0,"INF",(G31-H31)/H31) -> #REF! | K31: =IF(C31=0,0,SUMIFS(#REF!,#REF!,G$19,#REF!,$G$18,#REF!,$B31)/SUMIFS(#REF!,#REF!,G$19,#REF!,$G$18,#REF!,$B31)) -> #REF! | L31: =IF(D31=0,0,SUMIFS(#REF!,#REF!,H$19,#REF!,$G$18,#REF!,$B31)/SUMIFS(#REF!,#REF!,H$19,#REF!,$G$18,#REF!,$B31)) -> #REF! | M31: =IF(L31=0,"INF",(K31-L31)/L31) -> #REF!
... B37: HBA of Michigan | C37: =SUMIFS(#REF!,#REF!,'Statewide Summary'!$B37,#REF!,'Statewide Summary'!$C$19,#REF!,'Statewide Summary'!$C$18) -> #REF! | D37: =SUMIFS(#REF!,#REF!,'Statewide Summary'!$B37,#REF!,'Statewide Summary'!$D$19,#REF!,'Statewide Summary'!$C$18) -> #REF! | E37: =IF(D37=0,"INF",(C37-D37)/D37) -> #REF! | G37: =IF(C37=0,0,SUMIFS(#REF!,#REF!,G$19,#REF!,$G$18,#REF!,$B37)/SUMIFS(#REF!,#REF!,G$19,#REF!,$G$18,#REF!,$B37)) -> #REF! | H37: =IF(D37=0,0,SUMIFS(#REF!,#REF!,H$19,#REF!,$G$18,#REF!,$B37)/SUMIFS(#REF!,#REF!,H$19,#REF!,$G$18,#REF!,$B37)) -> #REF! | I37: =IF(H37=0,"INF",(G37-H37)/H37) -> #REF! | K37: =IF(C37=0,0,SUMIFS(#REF!,#REF!,G$19,#REF!,$G$18,#REF!,$B37)/SUMIFS(#REF!,#REF!,G$19,#REF!,$G$18,#REF!,$B37)) -> #REF! | L37: =IF(D37=0,0,SUMIFS(#REF!,#REF!,H$19,#REF!,$G$18,#REF!,$B37)/SUMIFS(#REF!,#REF!,H$19,#REF!,$G$18,#REF!,$B37)) -> #REF! | M37: =IF(L37=0,"INF",(K37-L37)/L37) -> #REF!
B38: Statewide Total - | C38: =SUM(C20:C37) -> #REF! | D38: =SUM(D20:D37) -> #REF! | E38: =IF(D38=0,"INF",(C38-D38)/D38) -> #REF! | G38: =IF(C38=0,0,SUMPRODUCT(C20:C37,G20:G37)/C38) -> #REF! | H38: =IF(D38=0,0,SUMPRODUCT(D20:D37,H20:H37)/D38) -> #REF! | I38: =IF(H38=0,"INF",(G38-H38)/H38) -> #REF! | K38: =IF(G38=0,0,SUMPRODUCT(C20:C37,K20:K37)/C38) -> #REF! | L38: =IF(D38=0,0,SUMPRODUCT(D20:D37,L20:L37)/D38) -> #REF! | M38: =IF(L38=0,"INF",(K38-L38)/L38) -> #REF!
B40: Sources: US Census Bureau & HBA of Michigan © 1990-2025
B41: Note: The "HBA of Michigan" line item is for those regions of the state currently unassigned to a specific local HBA

Sheet Statewide Summary - Proposed
B2: =CONCATENATE(B14,D14," ",#REF!) -> #REF!
B3: =#REF! -> #REF!
B14: JANUARY - | D14: JULY | G14: 2025
B15: SUMMARY REPORT
C17: Permits | F17: Est. Average Market Value | I17: Average Derived Size (sf)
B18: (Click on links to view Local HBA reports) | C18: July | F18: July | I18: July
B19: Local HBA Name | C19: 2025 | D19: YoY Chg | F19: 2025 | G19: YoY Chg | I19: 2025 | J19: YoY Chg
B20: Ann Arbor Area HBA | C20: 53 | D20: 0.35897436 | F20: 660208.64 | G20: 0.15243252 | I20: 2861.008 | J20: 0.10675779
B21: Bay County HBA | C21: 7 | D21: 2.5 | F21: 228214.29 | G21: -0.39198917 | I21: 989.062 | J21: -0.41608023
B22: HBA of Central Michigan | C22: 9 | D22: -0.4375 | F22: 393212.99 | G22: 0.33831686 | I22: 1703.7984 | J22: 0.28512582
B23: HBA of the Great Lakes Bay Region | C23: 32 | D23: 0.032258065 | F23: 423048.04 | G23: 0.081754626 | I23: 1833.2029 | J23: 0.038904302
B24: HBA of Greater Grand Rapids | C24: 156 | D24: -0.2160804 | F24: 491116.58 | G24: 0.18033793 | I24: 2128.2682 | J24: 0.13359371
B25: HBA of Greater Lansing | C25: 56 | D25: 0.75 | F25: 559623.09 | G25: 0.161561 | I25: 2425.124 | J25: 0.11551082
B26: HBA of Jackson | C26: 40 | D26: -0.024390244 | F26: 358502.32 | G26: -0.065046513 | I26: 1553.4963 | J26: -0.10210772
B27: Lakeshore HBA | C27: 138 | D27: 0.069767442 | F27: 566484.34 | G27: 0.21226969 | I27: 2454.829 | J27: 0.16418604
B28: HBA of Livingston | C28: 55 | D28: 0.96428571 | F28: 395147.66 | G28: 0.10138055 | I28: 1712.3784 | J28: 0.057751747
B29: HBA of Mid-Michigan | C29: 54 | D29: -0.19402985 | F29: 404311.79 | G29: -0.099151339 | I29: 1752.0082 | J29: -0.13490721
B30: HBA of Northern Michigan | C30: 51 | D30: 0.37837838 | F30: 441324.86 | G30: 0.27007598 | I30: 1912.4939 | J30: 0.21975012
B31: HBA of Northwest Michigan | C31: 100 | D31: 0.041666667 | F31: 334353.03 | G31: 0.050562788 | I31: 1448.9147 | J31: 0.0089369042
... B37: Statewide Total - | C37: 1454 | D37: 0.061313869 | F37: 489346.79 | G37: 0.12711351 | I37: 2120.5668 | J37: 0.082440084
B40: Sources: US Census Bureau, St. Louis Federal Reserve & HBA of Michigan © 1990-2025 Notes: - The "HBA of Michigan" line item is for those regions of the state currently unassigned to a specific local HBA (Alcona, Alpena, Arenac, Crawford, Huron, Iosco, Lenawee, Mecosta, Montmorency, Ogemaw, Osceola, Oscoda, Presque Isle, Roscommon, Sanilac, Tuscola); - Permit totals are for 1-unit, residential single family home (SFH) units; - Est. Average Market Value is calculated using a 42% factor (i.e., x1.42) applied to the average permit value to cover land, profit and O/H; - Average Derived SF is calculated using average permit value divided by the monthly US Construction Producer Price Index (PPI)

Sheet Ann Arbor Area HBA
B1: RETURN TO STATEWIDE SUMMARY
B2: ANN ARBOR AREA HBA SFH PERMITS BY COUNTY & MUNICIPALITY | C2: JANUARY - JULY 2025 | G2: ANN ARBOR AREA HBA SFH PERMITS BY COUNTY & MUNICIPALITY | H2: JULY 2025 | L2: Sources: US Census Bureau, St. Louis Federal Reserve & HBA of Michigan © 1990-2025 Notes: - "_______ County" refers to unicorporated areas in that county; - Permit totals are for 1-unit, residential single family home (SFH) units; - Est. Average Market Value is calculated using a 42% factor (i.e., x1.42) applied to the average permit value to cover land, profit and O/H; - Average Derived SF is calculated using average permit value divided by the monthly US Construction Producer Price Index (PPI)
B3: COUNTY | MUNICIPALITY | C3: Permits | D3: Avg Market Value | E3: Avg Derived SF | G3: COUNTY | MUNICIPALITY | H3: Permits | I3: Avg Market Value | J3: Avg Derived SF
B4: Grand Total | C4: 322 | D4: 674230.08 | E4: 2943.1536 | G4: Grand Total | H4: 53 | I4: 660208.64 | J4: 2861.008
B5: Washtenaw County | C5: 322 | D5: 674230.08 | E5: 2943.1536 | G5: Washtenaw County | H5: 53 | I5: 660208.64 | J5: 2861.008
B6: Washtenaw County | C6: 75 | D6: 576117.64 | E6: 2504.7045 | G6: Washtenaw County | H6: 14 | I6: 574802.21 | J6: 2490.833
B7: Pittsfield Charter Township | C7: 52 | D7: 657811.43 | E7: 2886.3345 | G7: Pittsfield Charter Township | H7: 12 | I7: 471731.34 | J7: 2044.28
B8: Superior Charter Township | C8: 31 | D8: 661301.51 | E8: 2887.2115 | G8: Superior Charter Township | H8: 7 | I8: 661718.78 | J8: 2867.654
B9: Ann Arbor | C9: 30 | D9: 567190.22 | E9: 2471.8299 | G9: York Charter Township | H9: 5 | I9: 691540 | J9: 2996.7476
B10: Milan | C10: 30 | D10: 603013.79 | E10: 2666.3947 | G10: Ann Arbor | H10: 5 | I10: 692960 | J10: 3003.0056
B11: Saline | C11: 27 | D11: 728482.31 | E11: 3176.1426 | G11: Saline | H11: 4 | I11: 778425.54 | J11: 3373.062
B12: York Charter Township | C12: 25 | D12: 775604 | E12: 3378.8335 | G12: Salem Township | H12: 3 | I12: 1141680 | J12: 4947.2967
B13: Northfield Township | C13: 16 | D13: 531624.07 | E13: 2315.439 | G13: Northfield Township | H13: 2 | I13: 742888.62 | J13: 3219.741
B14: Ann Arbor Charter Township | C14: 12 | D14: 1763403.3 | E14: 7666.1945 | G14: Ann Arbor Charter Township | H14: 1 | I14: 1704000 | J14: 7384.44
B15: Manchester Township | C15: 8 | D15: 639419.43 | E15: 2775.1608 | G15: Ypsilanti | H15: 0 | I15: 0 | J15: 0
... B23: Barton Hills Village | C23: 0 | D23: 0 | E23: 0 | G23: Milan | H23: 0 | I23: 0 | J23: 0

Sheet Bay County HBA
B1: RETURN TO STATEWIDE SUMMARY
B2: BAY COUNTY HBA SFH PERMITS BY COUNTY & MUNICIPALITY | C2: JANUARY - JULY 2025 | G2: BAY COUNTY HBA SFH PERMITS BY COUNTY & MUNICIPALITY | H2: JULY 2025 | L2: Sources: US Census Bureau, St. Louis Federal Reserve & HBA of Michigan © 1990-2025 Notes: - "_______ County" refers to unicorporated areas in that county; - Permit totals are for 1-unit, residential single family home (SFH) units; - Est. Average Market Value is calculated using a 42% factor (i.e., x1.42) applied to the average permit value to cover land, profit and O/H; - Average Derived SF is calculated using average permit value divided by the monthly US Construction Producer Price Index (PPI)
B3: COUNTY | MUNICIPALITY | C3: Permits | D3: Avg Market Value | E3: Avg Derived SF | G3: COUNTY | MUNICIPALITY | H3: Permits | I3: Avg Market Value | J3: Avg Derived SF
B4: Grand Total | C4: 24 | D4: 406409.13 | E4: 1771.6282 | G4: Grand Total | H4: 7 | I4: 228214.29 | J4: 989.062
B5: Bay County | C5: 24 | D5: 406409.13 | E5: 1771.6282 | G5: Bay County | H5: 7 | I5: 228214.29 | J5: 989.062
B6: Monitor Charter Township | C6: 8 | D6: 220550.45 | E6: 952.4725 | G6: Monitor Charter Township | H6: 6 | I6: 85200 | J6: 369.222
B7: Frankenlust Township | C7: 6 | D7: 519667.96 | E7: 2295.2653 | G7: Hampton Charter Township | H7: 1 | I7: 1086300 | J7: 4708.102
B8: Hampton Charter Township | C8: 3 | D8: 613198.13 | E8: 2676.338 | G8: Kawkawlin Township | H8: 0 | I8: 0 | J8: 0
B9: Williams Charter Township | C9: 2 | D9: 501918.94 | E9: 2167.107 | G9: Portsmouth Charter Township | H9: 0 | I9: 0 | J9: 0
B10: Kawkawlin Township | C10: 1 | D10: 461500 | E10: 2010.904 | G10: Pinconning | H10: 0 | I10: 0 | J10: 0
B11: Bangor Charter Township | C11: 1 | D11: 519852.06 | E11: 2257.052 | G11: Beaver Township | H11: 0 | I11: 0 | J11: 0
B12: Beaver Township | C12: 1 | D12: 501920 | E12: 2146 | G12: Bay City | H12: 0 | I12: 0 | J12: 0
B13: Fraser Township | C13: 1 | D13: 195250 | E13: 834 | G13: Auburn | H13: 0 | I13: 0 | J13: 0
B14: Garfield Township | C14: 1 | D14: 349453.48 | E14: 1516.522 | G14: Essexville | H14: 0 | I14: 0 | J14: 0
B15: Essexville | C15: 0 | D15: 0 | E15: 0 | G15: Bangor Charter Township | H15: 0 | I15: 0 | J15: 0
... B22: Gibson Township | C22: 0 | D22: 0 | E22: 0 | G22: Gibson Township | H22: 0 | I22: 0 | J22: 0

Sheet HBA of Central Michigan
B1: RETURN TO STATEWIDE SUMMARY
B2: HBA OF CENTRAL MICHIGAN SFH PERMITS BY COUNTY & MUNICIPALITY | C2: JANUARY - JULY 2025 | G2: HBA OF CENTRAL MICHIGAN SFH PERMITS BY COUNTY & MUNICIPALITY | H2: JULY 2025 | L2: Sources: US Census Bureau, St. Louis Federal Reserve & HBA of Michigan © 1990-2025 Notes: - "_______ County" refers to unicorporated areas in that county; - Permit totals are for 1-unit, residential single family home (SFH) units; - Est. Average Market Value is calculated using a 42% factor (i.e., x1.42) applied to the average permit value to cover land, profit and O/H; - Average Derived SF is calculated using average permit value divided by the monthly US Construction Producer Price Index (PPI)
B3: COUNTY | MUNICIPALITY | C3: Permits | D3: Avg Market Value | E3: Avg Derived SF | G3: COUNTY | MUNICIPALITY | H3: Permits | I3: Avg Market Value | J3: Avg Derived SF
B4: Grand Total | C4: 75 | D4: 351791.7 | E4: 1529.5837 | G4: Grand Total | H4: 9 | I4: 393212.99 | J4: 1703.7984
B5: Clare County | C5: 15 | D5: 356149.44 | E5: 1547.9751 | G5: Clare County | H5: 2 | I5: 440661.5 | J5: 1909.733
B6: Clare County | C6: 10 | D6: 361268.16 | E6: 1573.305 | G6: Sheridan Township | H6: 1 | I6: 426000 | J6: 1846.11
B7: Sheridan Township | C7: 5 | D7: 345912 | E7: 1497.3152 | G7: Clare County | H7: 1 | I7: 455323 | J7: 1973.356
B8: Surrey Township | C8: 0 | D8: 0 | E8: 0 | G8: Surrey Township | H8: 0 | I8: 0 | J8: 0
B9: Grant Township | C9: 0 | D9: 0 | E9: 0 | G9: Grant Township | H9: 0 | I9: 0 | J9: 0
B10: Gratiot County | C10: 22 | D10: 302847.27 | E10: 1321.2044 | G10: Gratiot County | H10: 4 | I10: 295005 | J10: 1278.1965
B11: Gratiot County | C11: 21 | D11: 304590 | E11: 1329.1875 | G11: Gratiot County | H11: 3 | I11: 304590 | J11: 1319.7427
B12: Alma | C12: 1 | D12: 266250 | E12: 1153.558 | G12: Alma | H12: 1 | I12: 266250 | J12: 1153.558
B13: St. Louis | C13: 0 | D13: 0 | E13: 0 | G13: St. Louis | H13: 0 | I13: 0 | J13: 0
B14: Isabella County | C14: 38 | D14: 378407.79 | E14: 1642.9646 | G14: Isabella County | H14: 3 | I14: 492524.63 | J14: 2133.978
B15: Isabella County | C15: 27 | D15: 328277.75 | E15: 1424.7459 | G15: Fremont Township | H15: 1 | I15: 273929.36 | J15: 1186.934
... B20: Lake Isabella Village | C20: 1 | D20: 521337 | E20: 2230 | G20: Mount Pleasant | H20: 0 | I20: 0 | J20: 0

Sheet HBA of Great Lakes Bay Region
B1: RETURN TO STATEWIDE SUMMARY
B2: HBA OF CENTRAL MICHIGAN SFH PERMITS BY COUNTY & MUNICIPALITY | C2: JANUARY - JULY 2025 | G2: HBA OF CENTRAL MICHIGAN SFH PERMITS BY COUNTY & MUNICIPALITY | H2: JULY 2025 | L2: Sources: US Census Bureau, St. Louis Federal Reserve & HBA of Michigan © 1990-2025 Notes: - "_______ County" refers to unicorporated areas in that county; - Permit totals are for 1-unit, residential single family home (SFH) units; - Est. Average Market Value is calculated using a 42% factor (i.e., x1.42) applied to the average permit value to cover land, profit and O/H; - Average Derived SF is calculated using average permit value divided by the monthly US Construction Producer Price Index (PPI)
B3: COUNTY | MUNICIPALITY | C3: Permits | D3: Avg Market Value | E3: Avg Derived SF | G3: COUNTY | MUNICIPALITY | H3: Permits | I3: Avg Market Value | J3: Avg Derived SF
B4: Grand Total | C4: 207 | D4: 421364.06 | E4: 1839.1756 | G4: Grand Total | H4: 32 | I4: 423048.04 | J4: 1833.2029
B5: Gladwin County | C5: 53 | D5: 337596.21 | E5: 1469.9177 | G5: Gladwin County | H5: 10 | I5: 337596.2 | J5: 1462.9118
B6: Gladwin County | C6: 53 | D6: 337596.21 | E6: 1469.9177 | G6: Gladwin County | H6: 10 | I6: 337596.2 | J6: 1462.9118
B7: Midland County | C7: 65 | D7: 461480.35 | E7: 2011.5857 | G7: Midland County | H7: 6 | I7: 468575.62 | J7: 2031.0687
B8: Midland | C8: 27 | D8: 324207.82 | E8: 1413.522 | G8: Jasper Township | H8: 1 | I8: 501920.3 | J8: 2175.698
B9: Larkin Charter Township | C9: 9 | D9: 494938.49 | E9: 2165.2131 | G9: Midland | H9: 1 | I9: 301856.5 | J9: 1307.922
B10: Lee Township | C10: 6 | D10: 500445.65 | E10: 2181.8737 | G10: Lee Township | H10: 1 | I10: 501918.88 | J10: 2175.698
B11: Hope Township | C11: 4 | D11: 494854.38 | E11: 2170.483 | G11: Geneva Township | H11: 1 | I11: 501920.3 | J11: 2175.698
B12: Lincoln Township | C12: 3 | D12: 505756.23 | E12: 2215.1673 | G12: Hope Township | H12: 1 | I12: 501918.88 | J12: 2175.698
B13: Homer Township | C13: 2 | D13: 472284.04 | E13: 2044.033 | G13: Larkin Charter Township | H13: 1 | I13: 501918.88 | J13: 2175.698
B14: Jasper Township | C14: 2 | D14: 501920.15 | E14: 2160.849 | G14: Midland Charter Township | H14: 0 | I14: 0 | J14: 0
B15: Mount Haley Township | C15: 2 | D15: 1221413 | E15: 5273.236 | G15: Sanford Village | H15: 0 | I15: 0 | J15: 0
... B62: Chapin Township | C62: 0 | D62: 0 | E62: 0 | G62: Kochville Township | H62: 0 | I62: 0 | J62: 0

Sheet HBA of Greater Grand Rapids
B1: RETURN TO STATEWIDE SUMMARY
B2: HBA OF GREATER GRAND RAPIDS SFH PERMITS BY COUNTY & MUNICIPALITY | C2: JANUARY - JULY 2025 | G2: HBA OF GREATER GRAND RAPIDS SFH PERMITS BY COUNTY & MUNICIPALITY | H2: JULY 2025 | L2: Sources: US Census Bureau, St. Louis Federal Reserve & HBA of Michigan © 1990-2025 Notes: - "_______ County" refers to unicorporated areas in that county; - Permit totals are for 1-unit, residential single family home (SFH) units; - Est. Average Market Value is calculated using a 42% factor (i.e., x1.42) applied to the average permit value to cover land, profit and O/H; - Average Derived SF is calculated using average permit value divided by the monthly US Construction Producer Price Index (PPI)
B3: COUNTY | MUNICIPALITY | C3: Permits | D3: Avg Market Value | E3: Avg Derived SF | G3: COUNTY | MUNICIPALITY | H3: Permits | I3: Avg Market Value | J3: Avg Derived SF
B4: Grand Total | C4: 1182 | D4: 519003.81 | E4: 2269.893 | G4: Grand Total | H4: 156 | I4: 491116.58 | J4: 2128.2682
B5: Ionia County | C5: 64 | D5: 505539.93 | E5: 2206.627 | G5: Ionia County | H5: 14 | I5: 521336.97 | J5: 2259.138
B6: Ionia County | C6: 64 | D6: 505539.93 | E6: 2206.627 | G6: Ionia County | H6: 14 | I6: 521336.97 | J6: 2259.138
B7: Portland | C7: 0 | D7: 0 | E7: 0 | G7: Portland | H7: 0 | I7: 0 | J7: 0
B8: Kent County | C8: 813 | D8: 524706.71 | E8: 2296.0539 | G8: Kent County | H8: 83 | I8: 572309.44 | J8: 2480.1535
B9: Cascade Charter Township | C9: 154 | D9: 828713.6 | E9: 3629.368 | G9: Cascade Charter Township | H9: 13 | I9: 910733.38 | J9: 3946.5515
B10: Caledonia Township | C10: 138 | D10: 423357.5 | E10: 1850.9778 | G10: Caledonia Township | H10: 12 | I10: 467812.02 | J10: 2027.2443
B11: Grand Rapids | C11: 92 | D11: 364574.98 | E11: 1599.7078 | G11: Grand Rapids | H11: 10 | I11: 286451.49 | J11: 1241.3786
B12: Wyoming | C12: 61 | D12: 181666.86 | E12: 792.47367 | G12: Byron Township | H12: 7 | I12: 885288.86 | J12: 3836.452
B13: Byron Township | C13: 56 | D13: 710367.58 | E13: 3107.4344 | G13: Gaines Charter Township | H13: 6 | I13: 511578.9 | J13: 2217.0703
B14: Kentwood | C14: 45 | D14: 431279.75 | E14: 1877.3925 | G14: Kentwood | H14: 5 | I14: 552022.16 | J14: 2392.2248
B15: Gaines Charter Township | C15: 44 | D15: 513885.84 | E15: 2245.2871 | G15: Rockford | H15: 4 | I15: 517787.73 | J15: 2244.0145
... B60: Chester Township | C60: 0 | D60: 0 | E60: 0 | G60: Chester Township | H60: 0 | I60: 0 | J60: 0

Sheet HBA of Greater Lansing
B1: RETURN TO STATEWIDE SUMMARY
B2: HBA OF GREATER LANSING SFH PERMITS BY COUNTY & MUNICIPALITY | C2: JANUARY - JULY 2025 | G2: HBA OF GREATER LANSING SFH PERMITS BY COUNTY & MUNICIPALITY | H2: JULY 2025 | L2: Sources: US Census Bureau, St. Louis Federal Reserve & HBA of Michigan © 1990-2025 Notes: - "_______ County" refers to unicorporated areas in that county; - Permit totals are for 1-unit, residential single family home (SFH) units; - Est. Average Market Value is calculated using a 42% factor (i.e., x1.42) applied to the average permit value to cover land, profit and O/H; - Average Derived SF is calculated using average permit value divided by the monthly US Construction Producer Price Index (PPI)
B3: COUNTY | MUNICIPALITY | C3: Permits | D3: Avg Market Value | E3: Avg Derived SF | G3: COUNTY | MUNICIPALITY | H3: Permits | I3: Avg Market Value | J3: Avg Derived SF
B4: Grand Total | C4: 291 | D4: 505842.67 | E4: 2208.2065 | G4: Grand Total | H4: 56 | I4: 559623.09 | J4: 2425.124
B5: Clinton County | C5: 103 | D5: 469818.14 | E5: 2053.9585 | G5: Clinton County | H5: 18 | I5: 556046.83 | J5: 2409.6777
B6: Clinton County | C6: 38 | D6: 492331.61 | E6: 2144.3509 | G6: Dewitt Charter Township | H6: 6 | I6: 640432.07 | J6: 2775.423
B7: Dewitt Charter Township | C7: 34 | D7: 416693.46 | E7: 1828.4311 | G7: Clinton County | H7: 6 | I7: 521336.91 | J7: 2259.138
B8: Watertown Charter Township | C8: 19 | D8: 491406.22 | E8: 2147.2682 | G8: Watertown Charter Township | H8: 3 | I8: 491406.15 | J8: 2129.806
B9: Bath Charter Township | C9: 12 | D9: 514864.28 | E9: 2258.9697 | G9: Bath Charter Township | H9: 3 | I9: 521336.91 | J9: 2259.138
B10: Dewitt | C10: 0 | D10: 0 | E10: 0 | G10: Dewitt | H10: 0 | I10: 0 | J10: 0
B11: Eaton County | C11: 66 | D11: 659577.31 | E11: 2872.1662 | G11: Eaton County | H11: 13 | I11: 916860.14 | J11: 3973.1882
B12: Eaton County | C12: 38 | D12: 890314.93 | E12: 3874.5323 | G12: Eaton County | H12: 11 | I12: 1034107.9 | J12: 4481.2969
B13: Delta Charter Township | C13: 12 | D13: 391270.82 | E13: 1715.3527 | G13: Eaton Rapids | H13: 2 | I13: 271997.45 | J13: 1178.59
B14: Eaton Rapids | C14: 10 | D14: 271997.34 | E14: 1176.5162 | G14: Windsor Charter Township | H14: 0 | I14: 0 | J14: 0
B15: Grand Ledge | C15: 6 | D15: 380818.6 | E15: 1663.5573 | G15: Oneida Charter Township | H15: 0 | I15: 0 | J15: 0
... B40: Dansville Village | C40: 0 | D40: 0 | E40: 0 | G40: Leslie Township | H40: 0 | I40: 0 | J40: 0

Sheet HBA of Jackson
B1: RETURN TO STATEWIDE SUMMARY
B2: HBA OF JACKSON SFH PERMITS BY COUNTY & MUNICIPALITY | C2: JANUARY - JULY 2025 | G2: HBA OF JACKSON SFH PERMITS BY COUNTY & MUNICIPALITY | H2: JULY 2025 | L2: Sources: US Census Bureau, St. Louis Federal Reserve & HBA of Michigan © 1990-2025 Notes: - "_______ County" refers to unicorporated areas in that county; - Permit totals are for 1-unit, residential single family home (SFH) units; - Est. Average Market Value is calculated using a 42% factor (i.e., x1.42) applied to the average permit value to cover land, profit and O/H; - Average Derived SF is calculated using average permit value divided by the monthly US Construction Producer Price Index (PPI)
B3: COUNTY | MUNICIPALITY | C3: Permits | D3: Avg Market Value | E3: Avg Derived SF | G3: COUNTY | MUNICIPALITY | H3: Permits | I3: Avg Market Value | J3: Avg Derived SF
B4: Grand Total | C4: 251 | D4: 430377.76 | E4: 1876.3869 | G4: Grand Total | H4: 40 | I4: 358502.32 | J4: 1553.4963
B5: Hillsdale County | C5: 44 | D5: 503880.97 | E5: 2193.1349 | G5: Hillsdale County | H5: 12 | I5: 394295.54 | J5: 1708.6078
B6: Hillsdale County | C6: 38 | D6: 519045.79 | E6: 2258.3701 | G6: Hillsdale County | H6: 11 | I6: 393895.09 | J6: 1706.9169
B7: Somerset Township | C7: 6 | D7: 407837.1 | E7: 1779.9787 | G7: Somerset Township | H7: 1 | I7: 398700.5 | J7: 1727.208
B8: Jackson County | C8: 117 | D8: 428291.92 | E8: 1867.2718 | G8: Jackson County | H8: 16 | I8: 368584.52 | J8: 1597.2241
B9: Jackson | C9: 17 | D9: 175914.21 | E9: 760.65035 | G9: Jackson | H9: 4 | I9: 175914.21 | J9: 762.433
B10: Summit Township | C10: 14 | D10: 626828.57 | E10: 2726.2726 | G10: Leoni Township | H10: 2 | I10: 455323 | J10: 1973.356
B11: Grass Lake Charter Township | C11: 14 | D11: 419060.06 | E11: 1832.3854 | G11: Brooklyn Village | H11: 2 | I11: 455323 | J11: 1973.356
B12: Leoni Township | C12: 11 | D12: 448579.81 | E12: 1955.9493 | G12: Grass Lake Charter Township | H12: 2 | I12: 417645.43 | J12: 1809.605
B13: Brooklyn Village | C13: 11 | D13: 448579.81 | E13: 1955.9493 | G13: Parma Township | H13: 1 | I13: 532500 | J13: 2307.116
B14: Columbia Charter Township | C14: 10 | D14: 493795.58 | E14: 2148.9736 | G14: Spring Arbor Township | H14: 1 | I14: 369138.94 | J14: 1599.962
B15: Spring Arbor Township | C15: 9 | D15: 369138.95 | E15: 1610.8424 | G15: Summit Township | H15: 1 | I15: 497000 | J15: 2152.752
... B65: Hudson | C65: 0 | D65: 0 | E65: 0 | G65: Hudson | H65: 0 | I65: 0 | J65: 0

Sheet Lakeshore HBA
B1: RETURN TO STATEWIDE SUMMARY
B2: LAKESHORE HBA SFH PERMITS BY COUNTY & MUNICIPALITY | C2: JANUARY - JULY 2025 | G2: LAKESHORE HBA SFH PERMITS BY COUNTY & MUNICIPALITY | H2: JULY 2025 | L2: Sources: US Census Bureau, St. Louis Federal Reserve & HBA of Michigan © 1990-2025 Notes: - "_______ County" refers to unicorporated areas in that county; - Permit totals are for 1-unit, residential single family home (SFH) units; - Est. Average Market Value is calculated using a 42% factor (i.e., x1.42) applied to the average permit value to cover land, profit and O/H; - Average Derived SF is calculated using average permit value divided by the monthly US Construction Producer Price Index (PPI)
B3: COUNTY | MUNICIPALITY | C3: Permits | D3: Avg Market Value | E3: Avg Derived SF | G3: COUNTY | MUNICIPALITY | H3: Permits | I3: Avg Market Value | J3: Avg Derived SF
B4: Grand Total | C4: 827 | D4: 526911.1 | E4: 2304.1619 | G4: Grand Total | H4: 138 | I4: 566484.34 | J4: 2454.829
B5: Allegan County | C5: 145 | D5: 701710.11 | E5: 3068.5789 | G5: Allegan County | H5: 27 | I5: 663921.05 | J5: 2877.0576
B6: Fillmore Township | C6: 21 | D6: 271402.69 | E6: 1179.2656 | G6: Ganges Township | H6: 6 | I6: 1104954.1 | J6: 4788.413
B7: Laketown Township | C7: 21 | D7: 1021804.7 | E7: 4459.1683 | G7: Fillmore Township | H7: 4 | I7: 268217.41 | J7: 1162.4235
B8: Casco Township | C8: 19 | D8: 385829.84 | E8: 1685.7997 | G8: Laketown Township | H8: 3 | I8: 461632.06 | J8: 2000.474
B9: Ganges Township | C9: 17 | D9: 1130183.2 | E9: 4979.778 | G9: Saugatuck Township | H9: 3 | I9: 1205911.8 | J9: 5225.43
B10: Saugatuck Township | C10: 16 | D10: 1192392.8 | E10: 5204.584 | G10: Casco Township | H10: 3 | I10: 386275.03 | J10: 1673.6673
B11: Cheshire Township | C11: 11 | D11: 308673.06 | E11: 1344.9262 | G11: Cheshire Township | H11: 2 | I11: 325304.25 | J11: 1410.136
B12: Manlius Township | C12: 8 | D12: 795217.75 | E12: 3484.9237 | G12: Manlius Township | H12: 2 | I12: 738400 | J12: 3199.924
B13: Clyde Township | C13: 6 | D13: 552585.4 | E13: 2402.455 | G13: Heath Township | H13: 2 | I13: 476907 | J13: 2066.183
B14: Overisel Township | C14: 6 | D14: 622596.4 | E14: 2715.219 | G14: Clyde Township | H14: 1 | I14: 660892.14 | J14: 2864.078
B15: Valley Township | C15: 5 | D15: 472833.3 | E15: 2095.5956 | G15: Lee Township | H15: 1 | I15: 319703.06 | J15: 1385.104
... B72: Spring Lake Village | C72: 0 | D72: 0 | E72: 0 | G72: Zeeland | H72: 0 | I72: 0 | J72: 0

Sheet HBA of Livingston 
B1: RETURN TO STATEWIDE SUMMARY
B2: LAKESHORE HBA SFH PERMITS BY COUNTY & MUNICIPALITY | C2: JANUARY - JULY 2025 | G2: LAKESHORE HBA SFH PERMITS BY COUNTY & MUNICIPALITY | H2: JULY 2025 | L2: Sources: US Census Bureau, St. Louis Federal Reserve & HBA of Michigan © 1990-2025 Notes: - "_______ County" refers to unicorporated areas in that county; - Permit totals are for 1-unit, residential single family home (SFH) units; - Est. Average Market Value is calculated using a 42% factor (i.e., x1.42) applied to the average permit value to cover land, profit and O/H; - Average Derived SF is calculated using average permit value divided by the monthly US Construction Producer Price Index (PPI)
B3: COUNTY | MUNICIPALITY | C3: Permits | D3: Avg Market Value | E3: Avg Derived SF | G3: COUNTY | MUNICIPALITY | H3: Permits | I3: Avg Market Value | J3: Avg Derived SF
B4: Grand Total | C4: 251 | D4: 411544.15 | E4: 1788.3003 | G4: Grand Total | H4: 55 | I4: 395147.66 | J4: 1712.3784
B5: Livingston County | C5: 251 | D5: 411544.15 | E5: 1788.3003 | G5: Livingston County | H5: 55 | I5: 395147.66 | J5: 1712.3784
B6: Livingston County | C6: 229 | D6: 372955.2 | E6: 1619.027 | G6: Livingston County | H6: 52 | I6: 381093.05 | J6: 1651.4702
B7: Green Oak Township | C7: 17 | D7: 844545.17 | E7: 3691.3796 | G7: Howell | H7: 2 | I7: 361696.72 | J7: 1567.629
B8: Howell | C8: 3 | D8: 574357.81 | E8: 2469.7527 | G8: Green Oak Township | H8: 1 | I8: 1192889.5 | J8: 5169.108
B9: Brighton | C9: 2 | D9: 905250 | E9: 3971.744 | G9: Brighton | H9: 0 | I9: 0 | J9: 0

Sheet HBA of Mid-Michigan
B1: RETURN TO STATEWIDE SUMMARY
B2: HBA OF MID-MICHIGAN SFH PERMITS BY COUNTY & MUNICIPALITY | C2: JANUARY - JULY 2025 | G2: HBA OF MID-MICHIGAN SFH PERMITS BY COUNTY & MUNICIPALITY | H2: JULY 2025 | L2: Sources: US Census Bureau, St. Louis Federal Reserve & HBA of Michigan © 1990-2025 Notes: - "_______ County" refers to unicorporated areas in that county; - Permit totals are for 1-unit, residential single family home (SFH) units; - Est. Average Market Value is calculated using a 42% factor (i.e., x1.42) applied to the average permit value to cover land, profit and O/H; - Average Derived SF is calculated using average permit value divided by the monthly US Construction Producer Price Index (PPI)
B3: COUNTY | MUNICIPALITY | C3: Permits | D3: Avg Market Value | E3: Avg Derived SF | G3: COUNTY | MUNICIPALITY | H3: Permits | I3: Avg Market Value | J3: Avg Derived SF
B4: Grand Total | C4: 356 | D4: 394805.85 | E4: 1722.8598 | G4: Grand Total | H4: 54 | I4: 404311.79 | J4: 1752.0082
B5: Genesee County | C5: 235 | D5: 409129.94 | E5: 1785.6541 | G5: Genesee County | H5: 31 | I5: 426884.84 | J5: 1849.811
B6: Fenton Charter Township | C6: 60 | D6: 431147.45 | E6: 1878.8231 | G6: Fenton Charter Township | H6: 10 | I6: 425026.45 | J6: 1841.938
B7: Mundy Township | C7: 35 | D7: 565998.18 | E7: 2472.5543 | G7: Mundy Township | H7: 4 | I7: 686482.67 | J7: 2974.636
B8: Grand Blanc Charter Township | C8: 26 | D8: 467888.76 | E8: 2047.0089 | G8: Grand Blanc Charter Township | H8: 3 | I8: 463720.41 | J8: 2009.5133
B9: Burton | C9: 19 | D9: 303527.78 | E9: 1328.8984 | G9: Davison Township | H9: 3 | I9: 272675.97 | J9: 1181.3713
B10: Davison Township | C10: 16 | D10: 269225.1 | E10: 1173.3853 | G10: Vienna Charter Township | H10: 3 | I10: 255600 | J10: 1107.666
B11: Vienna Charter Township | C11: 13 | D11: 311118.62 | E11: 1349.8062 | G11: Linden | H11: 1 | I11: 323998.56 | J11: 1403.878
B12: Swartz Creek | C12: 8 | D12: 540584.59 | E12: 2371.782 | G12: Flushing Charter Township | H12: 1 | I12: 763960 | J12: 3310.482
B13: Argentine Township | C13: 8 | D13: 272949.08 | E13: 1194.754 | G13: Mount Morris | H13: 1 | I13: 227910 | J13: 986.678
B14: Richfield Township | C14: 7 | D14: 453239.05 | E14: 1953.9291 | G14: Argentine Township | H14: 1 | I14: 278061.56 | J14: 1205.708
B15: Linden | C15: 7 | D15: 323998.62 | E15: 1411.3131 | G15: Richfield Township | H15: 1 | I15: 426000 | J15: 1846.11
... B58: Morrice Village | C58: 0 | D58: 0 | E58: 0 | G58: Morrice Village | H58: 0 | I58: 0 | J58: 0

Sheet HBA of Northern Michigan
B1: RETURN TO STATEWIDE SUMMARY
B2: HBA OF NORTHERN MICHIGAN SFH PERMITS BY COUNTY & MUNICIPALITY | C2: JANUARY - JULY 2025 | G2: HBA OF NORTHERN MICHIGAN SFH PERMITS BY COUNTY & MUNICIPALITY | H2: JULY 2025 | L2: Sources: US Census Bureau, St. Louis Federal Reserve & HBA of Michigan © 1990-2025 Notes: - "_______ County" refers to unicorporated areas in that county; - Permit totals are for 1-unit, residential single family home (SFH) units; - Est. Average Market Value is calculated using a 42% factor (i.e., x1.42) applied to the average permit value to cover land, profit and O/H; - Average Derived SF is calculated using average permit value divided by the monthly US Construction Producer Price Index (PPI)
B3: COUNTY | MUNICIPALITY | C3: Permits | D3: Avg Market Value | E3: Avg Derived SF | G3: COUNTY | MUNICIPALITY | H3: Permits | I3: Avg Market Value | J3: Avg Derived SF
B4: Grand Total | C4: 195 | D4: 510165.77 | E4: 2220.5384 | G4: Grand Total | H4: 51 | I4: 441324.86 | J4: 1912.4939
B5: Charlevoix County | C5: 64 | D5: 373153.17 | E5: 1625.2803 | G5: Charlevoix County | H5: 12 | I5: 372676.51 | J5: 1614.9117
B6: Charlevoix County | C6: 64 | D6: 373153.17 | E6: 1625.2803 | G6: Charlevoix County | H6: 12 | I6: 372676.51 | J6: 1614.9117
B7: Cheboygan County | C7: 44 | D7: 782381.81 | E7: 3389.9308 | G7: Cheboygan County | H7: 17 | I7: 535214.71 | J7: 2319.3866
B8: Cheboygan County | C8: 44 | D8: 782381.81 | E8: 3389.9308 | G8: Cheboygan County | H8: 17 | I8: 535214.71 | J8: 2319.3866
B9: Emmet County | C9: 72 | D9: 547922.55 | E9: 2393.3664 | G9: Emmet County | H9: 19 | I9: 452196.83 | J9: 1959.6323
B10: Emmet County | C10: 55 | D10: 545534.42 | E10: 2382.1282 | G10: Emmet County | H10: 13 | I10: 482700.27 | J10: 2091.7766
B11: Bear Creek Township | C11: 17 | D11: 555648.84 | E11: 2429.7251 | G11: Bear Creek Township | H11: 6 | I11: 386106.05 | J11: 1673.3197
B12: Otsego County | C12: 15 | D12: 115020 | E12: 500.51413 | G12: Otsego County | H12: 3 | I12: 115020 | J12: 498.554
B13: Otsego County | C13: 15 | D13: 115020 | E13: 500.51413 | G13: Otsego County | H13: 3 | I13: 115020 | J13: 498.554

Sheet HBA of Northwest Michigan
B1: RETURN TO STATEWIDE SUMMARY
B2: HBA OF NORTHWEST MICHIGAN SFH PERMITS BY COUNTY & MUNICIPALITY | C2: JANUARY - JULY 2025 | G2: HBA OF NORTHWEST MICHIGAN SFH PERMITS BY COUNTY & MUNICIPALITY | H2: JULY 2025 | L2: Sources: US Census Bureau, St. Louis Federal Reserve & HBA of Michigan © 1990-2025 Notes: - "_______ County" refers to unicorporated areas in that county; - Permit totals are for 1-unit, residential single family home (SFH) units; - Est. Average Market Value is calculated using a 42% factor (i.e., x1.42) applied to the average permit value to cover land, profit and O/H; - Average Derived SF is calculated using average permit value divided by the monthly US Construction Producer Price Index (PPI)
B3: COUNTY | MUNICIPALITY | C3: Permits | D3: Avg Market Value | E3: Avg Derived SF | G3: COUNTY | MUNICIPALITY | H3: Permits | I3: Avg Market Value | J3: Avg Derived SF
B4: Grand Total | C4: 636 | D4: 344652.05 | E4: 1499.9217 | G4: Grand Total | H4: 100 | I4: 334353.03 | J4: 1448.9147
B5: Antrim County | C5: 60 | D5: 237800.35 | E5: 1035.452 | G5: Antrim County | H5: 12 | I5: 237849.17 | J5: 1030.6578
B6: Antrim County | C6: 60 | D6: 237800.35 | E6: 1035.452 | G6: Antrim County | H6: 12 | I6: 237849.17 | J6: 1030.6578
B7: Benzie County | C7: 70 | D7: 467934.65 | E7: 2037.2455 | G7: Benzie County | H7: 12 | I7: 485218.26 | J7: 2102.688
B8: Benzie County | C8: 70 | D8: 467934.65 | E8: 2037.2455 | G8: Benzie County | H8: 12 | I8: 485218.26 | J8: 2102.688
B9: Grand Traverse County | C9: 275 | D9: 340284.92 | E9: 1478.0536 | G9: Grand Traverse County | H9: 32 | I9: 294829.19 | J9: 1277.6098
B10: Grand Traverse County | C10: 256 | D10: 332037.3 | E10: 1441.335 | G10: Grand Traverse County | H10: 28 | I10: 276090.5 | J10: 1196.3955
B11: Garfield Charter Township | C11: 19 | D11: 451410.68 | E11: 1972.7882 | G11: Garfield Charter Township | H11: 4 | I11: 426000 | J11: 1846.11
B12: Kalkaska County | C12: 23 | D12: 233901.09 | E12: 1021.7795 | G12: Kalkaska County | H12: 4 | I12: 233963.1 | J12: 1013.796
B13: Kalkaska County | C13: 23 | D13: 233901.09 | E13: 1021.7795 | G13: Kalkaska County | H13: 4 | I13: 233963.1 | J13: 1013.796
B14: Leelanau County | C14: 92 | D14: 343257.03 | E14: 1496.9054 | G14: Leelanau County | H14: 16 | I14: 376962.52 | J14: 1633.5987
B15: Leelanau County | C15: 92 | D15: 343257.03 | E15: 1496.9054 | G15: Leelanau County | H15: 16 | I15: 376962.52 | J15: 1633.5987
... B26: Cedar Creek Township | C26: 0 | D26: 0 | E26: 0 | G26: Cedar Creek Township | H26: 0 | I26: 0 | J26: 0

Sheet HBA of Southeastern Michigan
B1: RETURN TO STATEWIDE SUMMARY
B2: HBA OF SOUTHEASTERN MICHIGAN SFH PERMITS BY COUNTY & MUNICIPALITY | C2: JANUARY - JULY 2025 | G2: HBA OF SOUTHEASTERN MICHIGAN SFH PERMITS BY COUNTY & MUNICIPALITY | H2: JULY 2025 | L2: Sources: US Census Bureau, St. Louis Federal Reserve & HBA of Michigan © 1990-2025 Notes: - "_______ County" refers to unicorporated areas in that county; - Permit totals are for 1-unit, residential single family home (SFH) units; - Est. Average Market Value is calculated using a 42% factor (i.e., x1.42) applied to the average permit value to cover land, profit and O/H; - Average Derived SF is calculated using average permit value divided by the monthly US Construction Producer Price Index (PPI)
B3: COUNTY | MUNICIPALITY | C3: Permits | D3: Avg Market Value | E3: Avg Derived SF | G3: COUNTY | MUNICIPALITY | H3: Permits | I3: Avg Market Value | J3: Avg Derived SF
B4: Grand Total | C4: 2643 | D4: 499692.36 | E4: 2182.2755 | G4: Grand Total | H4: 424 | I4: 543371.65 | J4: 2354.6807
B5: Macomb County | C5: 630 | D5: 644846.38 | E5: 2814.0347 | G5: Macomb County | H5: 118 | I5: 595125.54 | J5: 2578.9501
B6: Macomb Township | C6: 215 | D6: 698435.26 | E6: 3047.4109 | G6: Macomb Township | H6: 38 | I6: 746359.47 | J6: 3234.343
B7: Shelby Charter Township | C7: 99 | D7: 838340.71 | E7: 3663.798 | G7: Shelby Charter Township | H7: 21 | I7: 664165.31 | J7: 2878.1833
B8: Washington Charter Township | C8: 76 | D8: 671820.51 | E8: 2928.7775 | G8: Sterling Heights | H8: 17 | I8: 440396.96 | J8: 1908.4446
B9: Chesterfield Township | C9: 63 | D9: 517330.11 | E9: 2250.0287 | G9: Chesterfield Township | H9: 11 | I9: 521336.99 | J9: 2259.138
B10: Sterling Heights | C10: 30 | D10: 483788.97 | E10: 2109.1522 | G10: Warren | H10: 7 | I10: 189787.67 | J10: 822.48
B11: Clinton Charter Township | C11: 23 | D11: 454048.87 | E11: 1977.6129 | G11: Bruce Township | H11: 4 | I11: 699350 | J11: 3030.4365
B12: Bruce Township | C12: 18 | D12: 798671.11 | E12: 3487.817 | G12: Washington Charter Township | H12: 4 | I12: 912232.14 | J12: 3952.97
B13: New Haven Village | C13: 14 | D13: 380181.67 | E13: 1657.0217 | G13: Clinton Charter Township | H13: 4 | I13: 478725.31 | J13: 2074.527
B14: Armada Township | C14: 14 | D14: 695242.14 | E14: 3064.9053 | G14: Roseville | H14: 3 | I14: 250866.67 | J14: 1086.806
B15: New Baltimore | C15: 13 | D15: 695869.88 | E15: 3039.7578 | G15: New Haven Village | H15: 3 | I15: 343063.48 | J15: 1486.6227
... B191: Highland Park | C191: 0 | D191: 0 | E191: 0 | G191: Highland Park | H191: 0 | I191: 0 | J191: 0

Sheet Southwestern Michigan HBA
B1: RETURN TO STATEWIDE SUMMARY
B2: SOUTHWESTERN MICHIGAN HBA SFH PERMITS BY COUNTY & MUNICIPALITY | C2: JANUARY - JULY 2025 | G2: SOUTHWESTERN MICHIGAN HBA SFH PERMITS BY COUNTY & MUNICIPALITY | H2: JULY 2025 | L2: Sources: US Census Bureau, St. Louis Federal Reserve & HBA of Michigan © 1990-2025 Notes: - "_______ County" refers to unicorporated areas in that county; - Permit totals are for 1-unit, residential single family home (SFH) units; - Est. Average Market Value is calculated using a 42% factor (i.e., x1.42) applied to the average permit value to cover land, profit and O/H; - Average Derived SF is calculated using average permit value divided by the monthly US Construction Producer Price Index (PPI)
B3: COUNTY | MUNICIPALITY | C3: Permits | D3: Avg Market Value | E3: Avg Derived SF | G3: COUNTY | MUNICIPALITY | H3: Permits | I3: Avg Market Value | J3: Avg Derived SF
B4: Grand Total | C4: 231 | D4: 644461.19 | E4: 2813.5101 | G4: Grand Total | H4: 28 | I4: 860456.86 | J4: 3728.725
B5: Berrien County | C5: 150 | D5: 587233.89 | E5: 2558.2285 | G5: Berrien County | H5: 17 | I5: 971620.97 | J5: 4210.6524
B6: Benton Charter Township | C6: 25 | D6: 378488.68 | E6: 1641.449 | G6: New Buffalo Township | H6: 2 | I6: 1253150 | J6: 5430.901
B7: Watervliet | C7: 14 | D7: 274781.48 | E7: 1203.795 | G7: Watervliet | H7: 2 | I7: 274186.38 | J7: 1187.977
B8: Buchanan Township | C8: 10 | D8: 454957.21 | E8: 1988.7924 | G8: Buchanan Township | H8: 2 | I8: 1489618.3 | J8: 6455.127
B9: Chikaming Township | C9: 10 | D9: 992740.6 | E9: 4291.4972 | G9: Lake Charter Township | H9: 2 | I9: 522241.21 | J9: 2263.31
B10: New Buffalo Township | C10: 9 | D10: 1335322.7 | E10: 5839.6027 | G10: St. Joseph | H10: 1 | I10: 710000 | J10: 3076.85
B11: Oronoko Charter Township | C11: 9 | D11: 558883.42 | E11: 2444.3298 | G11: Oronoko Charter Township | H11: 1 | I11: 501918.88 | J11: 2175.698
B12: Niles Township | C12: 9 | D12: 386713.33 | E12: 1682.2262 | G12: Niles Township | H12: 1 | I12: 651780 | J12: 2824.444
B13: Lake Charter Township | C13: 9 | D13: 633307.36 | E13: 2784.788 | G13: Benton Charter Township | H13: 1 | I13: 397600 | J13: 1723.036
B14: Berrien Township | C14: 6 | D14: 374748.41 | E14: 1636.1193 | G14: Royalton Township | H14: 1 | I14: 1222620 | J14: 5298.44
B15: Watervliet Township | C15: 6 | D15: 528620.09 | E15: 2332.9083 | G15: Coloma Charter Township | H15: 1 | I15: 1401540 | J15: 6074.432
... B61: Marcellus Village | C61: 0 | D61: 0 | E61: 0 | G61: Mason Township | H61: 0 | I61: 0 | J61: 0

Sheet HBA of Upper Peninsula
B1: RETURN TO STATEWIDE SUMMARY
B2: HBA OF UPPER PENINSULA SFH PERMITS BY COUNTY & MUNICIPALITY | C2: JANUARY - JULY 2025 | G2: HBA OF UPPER PENINSULA SFH PERMITS BY COUNTY & MUNICIPALITY | H2: JULY 2025 | L2: Sources: US Census Bureau, St. Louis Federal Reserve & HBA of Michigan © 1990-2025 Notes: - "_______ County" refers to unicorporated areas in that county; - Permit totals are for 1-unit, residential single family home (SFH) units; - Est. Average Market Value is calculated using a 42% factor (i.e., x1.42) applied to the average permit value to cover land, profit and O/H; - Average Derived SF is calculated using average permit value divided by the monthly US Construction Producer Price Index (PPI)
B3: COUNTY | MUNICIPALITY | C3: Permits | D3: Avg Market Value | E3: Avg Derived SF | G3: COUNTY | MUNICIPALITY | H3: Permits | I3: Avg Market Value | J3: Avg Derived SF
B4: Grand Total | C4: 400 | D4: 306680.63 | E4: 1334.9397 | G4: Grand Total | H4: 98 | I4: 336596.18 | J4: 1460.7747
B5: Alger County | C5: 18 | D5: 419502.5 | E5: 1832.4466 | G5: Alger County | H5: 3 | I5: 419432.5 | J5: 1820.3827
B6: Alger County | C6: 18 | D6: 419502.5 | E6: 1832.4466 | G6: Alger County | H6: 3 | I6: 419432.5 | J6: 1820.3827
B7: Baraga County | C7: 5 | D7: 431490.86 | E7: 1877.8172 | G7: Baraga County | H7: 2 | I7: 459488.57 | J7: 1994.216
B8: Arvon Township | C8: 2 | D8: 469310 | E8: 2041.151 | G8: Spurr Township | H8: 1 | I8: 449667.14 | J8: 1952.496
B9: Spurr Township | C9: 2 | D9: 449667.14 | E9: 1956.668 | G9: Arvon Township | H9: 1 | I9: 469310 | J9: 2035.936
B10: Covington Township | C10: 1 | D10: 319500 | E10: 1393.448 | G10: Lanse Village | H10: 0 | I10: 0 | J10: 0
B11: Lanse Village | C11: 0 | D11: 0 | E11: 0 | G11: Covington Township | H11: 0 | I11: 0 | J11: 0
B12: Chippewa County | C12: 47 | D12: 281922.41 | E12: 1222.9424 | G12: Chippewa County | H12: 18 | I12: 296817.24 | J12: 1288.2209
B13: Chippewa County | C13: 45 | D13: 284985.63 | E13: 1235.6108 | G13: Chippewa County | H13: 18 | I13: 296817.24 | J13: 1288.2209
B14: Sault Ste. Marie | C14: 2 | D14: 213000 | E14: 937.903 | G14: Sault Ste. Marie | H14: 0 | I14: 0 | J14: 0
B15: Pickford Township | C15: 0 | D15: 0 | E15: 0 | G15: Pickford Township | H15: 0 | I15: 0 | J15: 0
... B67: Schoolcraft County | C67: 7 | D67: 234192.07 | E67: 1017.034 | G67: Schoolcraft County | H67: 2 | I67: 234192.08 | J67: 1015.882

Sheet HBA of Western Michigan
B1: RETURN TO STATEWIDE SUMMARY
B2: HBA OF WESTERN MICHIGAN SFH PERMITS BY COUNTY & MUNICIPALITY | C2: JANUARY - JULY 2025 | G2: HBA OF WESTERN MICHIGAN SFH PERMITS BY COUNTY & MUNICIPALITY | H2: JULY 2025 | L2: Sources: US Census Bureau, St. Louis Federal Reserve & HBA of Michigan © 1990-2025 Notes: - "_______ County" refers to unicorporated areas in that county; - Permit totals are for 1-unit, residential single family home (SFH) units; - Est. Average Market Value is calculated using a 42% factor (i.e., x1.42) applied to the average permit value to cover land, profit and O/H; - Average Derived SF is calculated using average permit value divided by the monthly US Construction Producer Price Index (PPI)
B3: COUNTY | MUNICIPALITY | C3: Permits | D3: Avg Market Value | E3: Avg Derived SF | G3: COUNTY | MUNICIPALITY | H3: Permits | I3: Avg Market Value | J3: Avg Derived SF
B4: Grand Total | C4: 770 | D4: 464426.48 | E4: 2030.0149 | G4: Grand Total | H4: 108 | I4: 457838.24 | J4: 1983.9791
B5: Allegan County | C5: 117 | D5: 495710.34 | E5: 2167.3863 | G5: Allegan County | H5: 23 | I5: 485371.37 | J5: 2103.3229
B6: Leighton Township | C6: 25 | D6: 511322.69 | E6: 2241.2786 | G6: Leighton Township | H6: 8 | I6: 445375.9 | J6: 1930.0715
B7: Salem Township | C7: 14 | D7: 653482.78 | E7: 2858.5846 | G7: Otsego Township | H7: 6 | I7: 366276.69 | J7: 1587.0983
B8: Wayland Township | C8: 11 | D8: 540808.42 | E8: 2348.646 | G8: Salem Township | H8: 3 | I8: 660566.96 | J8: 2862.6873
B9: Otsego Township | C9: 11 | D9: 405208.2 | E9: 1751.4464 | G9: Wayland Township | H9: 2 | I9: 532500 | J9: 2307.116
B10: Wayland | C10: 8 | D10: 319099.2 | E10: 1414.0472 | G10: Dorr Township | H10: 1 | I10: 639000 | J10: 2768.122
B11: Allegan Township | C11: 8 | D11: 420205.16 | E11: 1834.589 | G11: Trowbridge Township | H11: 1 | I11: 729642.86 | J11: 3162.376
B12: Monterey Township | C12: 8 | D12: 464162.5 | E12: 2022.944 | G12: Otsego | H12: 1 | I12: 447930.48 | J12: 1942.066
B13: Watson Township | C13: 7 | D13: 429625.06 | E13: 1884.1994 | G13: Monterey Township | H13: 1 | I13: 539600 | J13: 2338.406
B14: Trowbridge Township | C14: 6 | D14: 656076 | E14: 2855.7913 | G14: Wayland | H14: 0 | I14: 0 | J14: 0
B15: Dorr Township | C15: 5 | D15: 614036.4 | E15: 2726.402 | G15: Martin Township | H15: 0 | I15: 0 | J15: 0
... B136: Hartford | C136: 0 | D136: 0 | E136: 0 | G136: Hartford | H136: 0 | I136: 0 | J136: 0

Sheet HBA of Michigan
B1: RETURN TO STATEWIDE SUMMARY
B2: HBA OF MICHIGAN SFH PERMITS BY COUNTY & MUNICIPALITY | C2: JANUARY - JULY 2025 | G2: HBA OF MICHIGAN SFH PERMITS BY COUNTY & MUNICIPALITY | H2: JULY 2025 | L2: Sources: US Census Bureau, St. Louis Federal Reserve & HBA of Michigan © 1990-2025 Notes: - "_______ County" refers to unicorporated areas in that county; - Permit totals are for 1-unit, residential single family home (SFH) units; - Est. Average Market Value is calculated using a 42% factor (i.e., x1.42) applied to the average permit value to cover land, profit and O/H; - Average Derived SF is calculated using average permit value divided by the monthly US Construction Producer Price Index (PPI)
B3: COUNTY | MUNICIPALITY | C3: Permits | D3: Avg Market Value | E3: Avg Derived SF | G3: COUNTY | MUNICIPALITY | H3: Permits | I3: Avg Market Value | J3: Avg Derived SF
B4: Grand Total | C4: 465 | D4: 389503.79 | E4: 1695.7436 | G4: Grand Total | H4: 73 | I4: 433708.09 | J4: 1879.5146
B5: Alcona County | C5: 23 | D5: 319077.28 | E5: 1388.1924 | G5: Alcona County | H5: 4 | I5: 318912.47 | J5: 1381.975
B6: Alcona County | C6: 23 | D6: 319077.28 | E6: 1388.1924 | G6: Alcona County | H6: 4 | I6: 318912.47 | J6: 1381.975
B7: Alpena County | C7: 21 | D7: 359438.18 | E7: 1571.0487 | G7: Alpena County | H7: 1 | I7: 92300 | J7: 400.512
B8: Alpena Township | C8: 7 | D8: 448133.74 | E8: 1950.112 | G8: Alpena Township | H8: 1 | I8: 92300 | J8: 400.512
B9: Ossineke Township | C9: 3 | D9: 202119.96 | E9: 899.76133 | G9: Alpena | H9: 0 | I9: 0 | J9: 0
B10: Sanborn Township | C10: 3 | D10: 166335.49 | E10: 734.96733 | G10: Wellington Township | H10: 0 | I10: 0 | J10: 0
B11: Maple Ridge Township | C11: 3 | D11: 382216.67 | E11: 1675.7533 | G11: Ossineke Township | H11: 0 | I11: 0 | J11: 0
B12: Wilson Township | C12: 2 | D12: 653200 | E12: 2820.195 | G12: Sanborn Township | H12: 0 | I12: 0 | J12: 0
B13: Green Township | C13: 2 | D13: 302815 | E13: 1345.47 | G13: Green Township | H13: 0 | I13: 0 | J13: 0
B14: Wellington Township | C14: 1 | D14: 247219.16 | E14: 1078.462 | G14: Wilson Township | H14: 0 | I14: 0 | J14: 0
B15: Alpena | C15: 0 | D15: 0 | E15: 0 | G15: Long Rapids Township | H15: 0 | I15: 0 | J15: 0
... B73: Arbela Township | C73: 0 | D73: 0 | E73: 0 | G73: Arbela Township | H73: 0 | I73: 0 | J73: 0

Sheet Statewide Detail by County
B1: RETURN TO STATEWIDE SUMMARY
B2: STATEWIDE SFH PERMITS BY COUNTY & MUNICIPALITY | C2: JANUARY - JULY 2025 | G2: STATEWIDE SFH PERMITS BY COUNTY & MUNICIPALITY | H2: JULY 2025 | L2: Sources: US Census Bureau, St. Louis Federal Reserve & HBA of Michigan © 1990-2025 Notes: - "_______ County" refers to unicorporated areas in that county; - Permit totals are for 1-unit, residential single family home (SFH) units; - Est. Average Market Value is calculated using a 42% factor (i.e., x1.42) applied to the average permit value to cover land, profit and O/H; - Average Derived SF is calculated using average permit value divided by the monthly US Construction Producer Price Index (PPI)
B3: COUNTY | MUNICIPALITY | C3: Permits | D3: Avg Market Value | E3: Avg Derived SF | G3: COUNTY | MUNICIPALITY | H3: Permits | I3: Avg Market Value | J3: Avg Derived SF
B4: Grand Total | C4: 9126 | D4: 475388.18 | E4: 2075.4108 | G4: Grand Total | H4: 1529 | I4: 462288.3 | J4: 2006.3145
B5: Alcona County | C5: 23 | D5: 319077.28 | E5: 1388.1924 | G5: Alcona County | H5: 5 | I5: 318912.4 | J5: 1384.2696
B6: Alcona County | C6: 23 | D6: 319077.28 | E6: 1388.1924 | G6: Alcona County | H6: 5 | I6: 318912.4 | J6: 1384.2696
B7: Alger County | C7: 18 | D7: 419502.5 | E7: 1832.4466 | G7: Alger County | H7: 3 | I7: 419432.5 | J7: 1820.3827
B8: Alger County | C8: 18 | D8: 419502.5 | E8: 1832.4466 | G8: Alger County | H8: 3 | I8: 419432.5 | J8: 1820.3827
B9: Allegan County | C9: 262 | D9: 609717.85 | E9: 2666.138 | G9: Allegan County | H9: 41 | I9: 622557.65 | J9: 2701.8279
B10: Leighton Township | C10: 25 | D10: 511322.69 | E10: 2241.2786 | G10: Fillmore Township | H10: 4 | I10: 268217.41 | J10: 1163.988
B11: Fillmore Township | C11: 21 | D11: 271402.69 | E11: 1179.2656 | G11: Wayland Township | H11: 4 | I11: 574543.71 | J11: 2493.2915
B12: Laketown Township | C12: 21 | D12: 1021804.7 | E12: 4459.1683 | G12: Laketown Township | H12: 4 | I12: 1004468.2 | J12: 4359.2185
B13: Casco Township | C13: 19 | D13: 385829.84 | E13: 1685.7997 | G13: Saugatuck Township | H13: 3 | I13: 1205911.8 | J13: 5233.774
B14: Ganges Township | C14: 17 | D14: 1130183.2 | E14: 4979.778 | G14: Casco Township | H14: 3 | I14: 386275.03 | J14: 1676.4487
